BEGIN:VCALENDAR
METHOD:PUBLISH
VERSION:2.0
PRODID:-//hacksw/handcal//NONSGML v1.0//EN
X-WR-TIMEZONE:Australia/Melbourne
CALSCALE:GREGORIAN
BEGIN:VEVENT
DTSTART;TZID=Australia/Melbourne:20231007T080000
DTEND;TZID=Australia/Melbourne:20231007T180000
UID:H0EX7HF1D4HGC3POSALR8AFSQDETGAG4DTNQSG1OLRV34L8MHPTEYWRIECGK2TVR
DTSTAMP:20260420T225726
LOCATION:
DESCRIPTION:Bring your car and put it on display at the annual Regional Sh
 ow n Shine.

Those interested in showing their cars, please contact Carl f
 or registration info. 

Cost to show is $10, includes BBQ lunch for free.

 
For those not showing, a gold coin donation towards lunch is appreciated.
URL;VALUE=URI:http://democarclub.com/events/view.php?id=H0EX7HF1D4HGC3POSA
 LR8AFSQDETGAG4DTNQSG1OLRV34L8MHPTEYWRIECGK2TVR
SUMMARY:Regional Show n Shine
END:VEVENT
END:VCALENDAR
