BEGIN:VCALENDAR
METHOD:PUBLISH
VERSION:2.0
PRODID:-//hacksw/handcal//NONSGML v1.0//EN
X-WR-TIMEZONE:Australia/Melbourne
CALSCALE:GREGORIAN
BEGIN:VEVENT
DTSTART;TZID=Australia/Melbourne:20221209T093000
DTEND;TZID=Australia/Melbourne:20221209T160000
UID:D3BLISOI4XDAOHZEK472HMNEV5V4QPECQRLGIS0U5QO98UJRICBQ50BK1PJDJ8SW
DTSTAMP:20260420T094724
LOCATION:
DESCRIPTION:This year\'s Christmas celebrations will include a run around 
 the north-west, lunch at Cafe Lagoon and presents afterwards.

Gather at t
 he Club rooms at 9.30am, leaving 10.00am sharp for the run.

Lunch begins 
 at 12.30pm in the outdoor BBQ area at the rear of Cafe Lagoon and Santa wi
 ll be there to give out presents afterwards.
URL;VALUE=URI:http://democarclub.com/events/view.php?id=D3BLISOI4XDAOHZEK4
 72HMNEV5V4QPECQRLGIS0U5QO98UJRICBQ50BK1PJDJ8SW
SUMMARY:Christmas Run, Lunch and Presents
END:VEVENT
END:VCALENDAR
