BEGIN:VCALENDAR
METHOD:PUBLISH
VERSION:2.0
PRODID:-//hacksw/handcal//NONSGML v1.0//EN
X-WR-TIMEZONE:Australia/Melbourne
CALSCALE:GREGORIAN
BEGIN:VEVENT
DTSTART;TZID=Australia/Melbourne:20240210T190000
DTEND;TZID=Australia/Melbourne:20240210T203000
UID:BZ6GT808RJQJPA4W2X1YXW4NANSHDOV3SH3EF2N7M9IQMA1QTVDTVWIL2RWDX71D
DTSTAMP:20260421T194418
LOCATION:
DESCRIPTION:7.00pm
Hungry Jacks
145 Whitehose Road
Mitcham
URL;VALUE=URI:http://democarclub.com/events/view.php?id=BZ6GT808RJQJPA4W2X
 1YXW4NANSHDOV3SH3EF2N7M9IQMA1QTVDTVWIL2RWDX71D
SUMMARY:February club dinner
END:VEVENT
END:VCALENDAR
